BEGIN:VCALENDAR
VERSION:2.0
PRODID:-//JUDO-SAINT-MAUR - ECPv6.15.11//NONSGML v1.0//EN
CALSCALE:GREGORIAN
METHOD:PUBLISH
X-ORIGINAL-URL:https://judo-saint-maur.fr
X-WR-CALDESC:Évènements pour JUDO-SAINT-MAUR
REFRESH-INTERVAL;VALUE=DURATION:PT1H
X-Robots-Tag:noindex
X-PUBLISHED-TTL:PT1H
BEGIN:VTIMEZONE
TZID:Europe/Paris
BEGIN:DAYLIGHT
TZOFFSETFROM:+0100
TZOFFSETTO:+0200
TZNAME:CEST
DTSTART:20220327T010000
END:DAYLIGHT
BEGIN:STANDARD
TZOFFSETFROM:+0200
TZOFFSETTO:+0100
TZNAME:CET
DTSTART:20221030T010000
END:STANDARD
BEGIN:DAYLIGHT
TZOFFSETFROM:+0100
TZOFFSETTO:+0200
TZNAME:CEST
DTSTART:20230326T010000
END:DAYLIGHT
BEGIN:STANDARD
TZOFFSETFROM:+0200
TZOFFSETTO:+0100
TZNAME:CET
DTSTART:20231029T010000
END:STANDARD
BEGIN:DAYLIGHT
TZOFFSETFROM:+0100
TZOFFSETTO:+0200
TZNAME:CEST
DTSTART:20240331T010000
END:DAYLIGHT
BEGIN:STANDARD
TZOFFSETFROM:+0200
TZOFFSETTO:+0100
TZNAME:CET
DTSTART:20241027T010000
END:STANDARD
END:VTIMEZONE
BEGIN:VEVENT
DTSTART;VALUE=DATE:20231201
DTEND;VALUE=DATE:20231214
DTSTAMP:20260423T141824
CREATED:20231201T185629Z
LAST-MODIFIED:20240214T101605Z
UID:29668-1701388800-1702511999@judo-saint-maur.fr
SUMMARY:Un p'tit chocolat ?
DESCRIPTION:JujitsuLes inscriptions sont ouvertes !				\n				\n				\n				\n							\n			\n		\n						\n				\n				\n				\n									Le jujitsu est un art martial complet qui combine techniques de self-défense\, projections\, immobilisations et maîtrise de soi. Accessible à tous\, il développe autant le corps que l’esprit\, en mettant l’accent sur le contrôle\, la précision et la confiance en soi. Que vous cherchiez un sport utile\, dynamique ou un moyen de vous recentrer\, n’hésitez plus. \n  \nVenez essayer gratuitement lors de nos cours d’essai les 12 et 17 juin\, ou à la rentrée en septembre ! \n6 Bis avenue Pierre Semard – Saint-Maur des fossés \n  \nUn seul essai peut suffire pour vous convaincre. Rejoignez-nous sur le tatami ! \nRetrouvez nous sur notre page Facebook Saint-Maur Ju-jitsu.
URL:https://judo-saint-maur.fr/evenement/p/
LOCATION:Judo saint maur\, Centre sportif Gilbert Noël - 6\, Avenue Pierre Semard\, Saint-Maur-des-Fossés\, 94210\, France
CATEGORIES:Animation,Judo,Jujitsu,Le club
ATTACH;FMTTYPE=image/webp:https://judo-saint-maur.fr/wp-content/uploads/2023/12/Jeff-de-Bruges-chocolats.webp
ORGANIZER;CN="Ch%C3%A9rif":MAILTO:contact@judo-saint-maur.fr
END:VEVENT
BEGIN:VEVENT
DTSTART;VALUE=DATE:20231220
DTEND;VALUE=DATE:20231221
DTSTAMP:20260423T141824
CREATED:20231020T134857Z
LAST-MODIFIED:20240214T101536Z
UID:29581-1703030400-1703116799@judo-saint-maur.fr
SUMMARY:Goûter de Noël
DESCRIPTION:JujitsuLes inscriptions sont ouvertes !				\n				\n				\n				\n							\n			\n		\n						\n				\n				\n				\n									Le jujitsu est un art martial complet qui combine techniques de self-défense\, projections\, immobilisations et maîtrise de soi. Accessible à tous\, il développe autant le corps que l’esprit\, en mettant l’accent sur le contrôle\, la précision et la confiance en soi. Que vous cherchiez un sport utile\, dynamique ou un moyen de vous recentrer\, n’hésitez plus. \n  \nVenez essayer gratuitement lors de nos cours d’essai les 12 et 17 juin\, ou à la rentrée en septembre ! \n6 Bis avenue Pierre Semard – Saint-Maur des fossés \n  \nUn seul essai peut suffire pour vous convaincre. Rejoignez-nous sur le tatami ! \nRetrouvez nous sur notre page Facebook Saint-Maur Ju-jitsu.
URL:https://judo-saint-maur.fr/evenement/gouter-de-noel/
LOCATION:Judo saint maur\, Centre sportif Gilbert Noël - 6\, Avenue Pierre Semard\, Saint-Maur-des-Fossés\, 94210\, France
CATEGORIES:Animation,Judo,Jujitsu,Le club
ATTACH;FMTTYPE=image/jpeg:https://judo-saint-maur.fr/wp-content/uploads/2023/10/Banderole-noel.jpg
ORGANIZER;CN="Ch%C3%A9rif":MAILTO:contact@judo-saint-maur.fr
END:VEVENT
BEGIN:VEVENT
DTSTART;TZID=Europe/Paris:20231223T093000
DTEND;TZID=Europe/Paris:20231223T123000
DTSTAMP:20260423T141824
CREATED:20231020T140248Z
LAST-MODIFIED:20240214T101510Z
UID:29594-1703323800-1703334600@judo-saint-maur.fr
SUMMARY:Goûter de Noël
DESCRIPTION:JujitsuLes inscriptions sont ouvertes !				\n				\n				\n				\n							\n			\n		\n						\n				\n				\n				\n									Le jujitsu est un art martial complet qui combine techniques de self-défense\, projections\, immobilisations et maîtrise de soi. Accessible à tous\, il développe autant le corps que l’esprit\, en mettant l’accent sur le contrôle\, la précision et la confiance en soi. Que vous cherchiez un sport utile\, dynamique ou un moyen de vous recentrer\, n’hésitez plus. \n  \nVenez essayer gratuitement lors de nos cours d’essai les 12 et 17 juin\, ou à la rentrée en septembre ! \n6 Bis avenue Pierre Semard – Saint-Maur des fossés \n  \nUn seul essai peut suffire pour vous convaincre. Rejoignez-nous sur le tatami ! \nRetrouvez nous sur notre page Facebook Saint-Maur Ju-jitsu.
URL:https://judo-saint-maur.fr/evenement/gouter-de-noel-2/
LOCATION:Judo saint maur\, Centre sportif Gilbert Noël - 6\, Avenue Pierre Semard\, Saint-Maur-des-Fossés\, 94210\, France
CATEGORIES:Animation,Judo,Jujitsu,Le club
ATTACH;FMTTYPE=image/jpeg:https://judo-saint-maur.fr/wp-content/uploads/2023/10/Banderole-noel.jpg
ORGANIZER;CN="Ch%C3%A9rif":MAILTO:contact@judo-saint-maur.fr
END:VEVENT
END:VCALENDAR