BEGIN:VCALENDAR
VERSION:2.0
PRODID:-//JUDO-SAINT-MAUR - ECPv6.15.11//NONSGML v1.0//EN
CALSCALE:GREGORIAN
METHOD:PUBLISH
X-ORIGINAL-URL:https://judo-saint-maur.fr
X-WR-CALDESC:Évènements pour JUDO-SAINT-MAUR
REFRESH-INTERVAL;VALUE=DURATION:PT1H
X-Robots-Tag:noindex
X-PUBLISHED-TTL:PT1H
BEGIN:VTIMEZONE
TZID:Europe/Paris
BEGIN:DAYLIGHT
TZOFFSETFROM:+0100
TZOFFSETTO:+0200
TZNAME:CEST
DTSTART:20220327T010000
END:DAYLIGHT
BEGIN:STANDARD
TZOFFSETFROM:+0200
TZOFFSETTO:+0100
TZNAME:CET
DTSTART:20221030T010000
END:STANDARD
BEGIN:DAYLIGHT
TZOFFSETFROM:+0100
TZOFFSETTO:+0200
TZNAME:CEST
DTSTART:20230326T010000
END:DAYLIGHT
BEGIN:STANDARD
TZOFFSETFROM:+0200
TZOFFSETTO:+0100
TZNAME:CET
DTSTART:20231029T010000
END:STANDARD
BEGIN:DAYLIGHT
TZOFFSETFROM:+0100
TZOFFSETTO:+0200
TZNAME:CEST
DTSTART:20240331T010000
END:DAYLIGHT
BEGIN:STANDARD
TZOFFSETFROM:+0200
TZOFFSETTO:+0100
TZNAME:CET
DTSTART:20241027T010000
END:STANDARD
END:VTIMEZONE
BEGIN:VEVENT
DTSTART;TZID=Europe/Paris:20230903T110000
DTEND;TZID=Europe/Paris:20230903T180000
DTSTAMP:20260423T191903
CREATED:20230802T140005Z
LAST-MODIFIED:20230901T185429Z
UID:28496-1693738800-1693764000@judo-saint-maur.fr
SUMMARY:Journée des associations
DESCRIPTION:JujitsuLes inscriptions sont ouvertes !				\n				\n				\n				\n							\n			\n		\n						\n				\n				\n				\n									Le jujitsu est un art martial complet qui combine techniques de self-défense\, projections\, immobilisations et maîtrise de soi. Accessible à tous\, il développe autant le corps que l’esprit\, en mettant l’accent sur le contrôle\, la précision et la confiance en soi. Que vous cherchiez un sport utile\, dynamique ou un moyen de vous recentrer\, n’hésitez plus. \n  \nVenez essayer gratuitement lors de nos cours d’essai les 12 et 17 juin\, ou à la rentrée en septembre ! \n6 Bis avenue Pierre Semard – Saint-Maur des fossés \n  \nUn seul essai peut suffire pour vous convaincre. Rejoignez-nous sur le tatami ! \nRetrouvez nous sur notre page Facebook Saint-Maur Ju-jitsu.
URL:https://judo-saint-maur.fr/evenement/journee-des-associations/
LOCATION:Guide des Associations\, Place des marronniers\, Saint maur des fosses\, 94100\, France
CATEGORIES:Animation,Judo,Jujitsu,Le club
ATTACH;FMTTYPE=image/jpeg:https://judo-saint-maur.fr/wp-content/uploads/2023/08/journee-associations.jpg
ORGANIZER;CN="Patrick":MAILTO:contact@judo-saint-maur.fr
END:VEVENT
BEGIN:VEVENT
DTSTART;VALUE=DATE:20230906
DTEND;VALUE=DATE:20230907
DTSTAMP:20260423T191903
CREATED:20230802T150051Z
LAST-MODIFIED:20240214T101818Z
UID:28524-1693958400-1694044799@judo-saint-maur.fr
SUMMARY:La rentrée sportive
DESCRIPTION:JujitsuLes inscriptions sont ouvertes !				\n				\n				\n				\n							\n			\n		\n						\n				\n				\n				\n									Le jujitsu est un art martial complet qui combine techniques de self-défense\, projections\, immobilisations et maîtrise de soi. Accessible à tous\, il développe autant le corps que l’esprit\, en mettant l’accent sur le contrôle\, la précision et la confiance en soi. Que vous cherchiez un sport utile\, dynamique ou un moyen de vous recentrer\, n’hésitez plus. \n  \nVenez essayer gratuitement lors de nos cours d’essai les 12 et 17 juin\, ou à la rentrée en septembre ! \n6 Bis avenue Pierre Semard – Saint-Maur des fossés \n  \nUn seul essai peut suffire pour vous convaincre. Rejoignez-nous sur le tatami ! \nRetrouvez nous sur notre page Facebook Saint-Maur Ju-jitsu.
URL:https://judo-saint-maur.fr/evenement/la-rentree-sportive/
LOCATION:Judo saint maur\, Centre sportif Gilbert Noël - 6\, Avenue Pierre Semard\, Saint-Maur-des-Fossés\, 94210\, France
CATEGORIES:Judo,Jujitsu,Le club
ATTACH;FMTTYPE=image/jpeg:https://judo-saint-maur.fr/wp-content/uploads/2023/08/equipe-prof-benevole-fete-de-club-scaled.jpg
ORGANIZER;CN="Ch%C3%A9rif":MAILTO:contact@judo-saint-maur.fr
END:VEVENT
BEGIN:VEVENT
DTSTART;VALUE=DATE:20230906
DTEND;VALUE=DATE:20230907
DTSTAMP:20260423T191903
CREATED:20240601T130404Z
LAST-MODIFIED:20240820T185320Z
UID:31232-1693958400-1694044799@judo-saint-maur.fr
SUMMARY:La rentrée 2023 - 2024
DESCRIPTION:JujitsuLes inscriptions sont ouvertes !				\n				\n				\n				\n							\n			\n		\n						\n				\n				\n				\n									Le jujitsu est un art martial complet qui combine techniques de self-défense\, projections\, immobilisations et maîtrise de soi. Accessible à tous\, il développe autant le corps que l’esprit\, en mettant l’accent sur le contrôle\, la précision et la confiance en soi. Que vous cherchiez un sport utile\, dynamique ou un moyen de vous recentrer\, n’hésitez plus. \n  \nVenez essayer gratuitement lors de nos cours d’essai les 12 et 17 juin\, ou à la rentrée en septembre ! \n6 Bis avenue Pierre Semard – Saint-Maur des fossés \n  \nUn seul essai peut suffire pour vous convaincre. Rejoignez-nous sur le tatami ! \nRetrouvez nous sur notre page Facebook Saint-Maur Ju-jitsu.
URL:https://judo-saint-maur.fr/evenement/la-rentree-2024-2025/
LOCATION:Judo saint maur\, Centre sportif Gilbert Noël - 6\, Avenue Pierre Semard\, Saint-Maur-des-Fossés\, 94210\, France
CATEGORIES:Judo,Jujitsu,Le club
ATTACH;FMTTYPE=image/jpeg:https://judo-saint-maur.fr/wp-content/uploads/2023/08/equipe-prof-benevole-fete-de-club-scaled.jpg
ORGANIZER;CN="Ch%C3%A9rif":MAILTO:contact@judo-saint-maur.fr
END:VEVENT
END:VCALENDAR